BEGIN:VCALENDAR
VERSION:2.0
PRODID:-//pretix//pretix.eu//
BEGIN:VTIMEZONE
TZID:Europe/Berlin
BEGIN:STANDARD
DTSTART:20001029T040000
RRULE:FREQ=YEARLY;BYDAY=-1SU;BYMONTH=10
TZNAME:CET
TZOFFSETFROM:+0200
TZOFFSETTO:+0100
END:STANDARD
BEGIN:DAYLIGHT
DTSTART:20000326T030000
RRULE:FREQ=YEARLY;BYDAY=-1SU;BYMONTH=3
TZNAME:CEST
TZOFFSETFROM:+0100
TZOFFSETTO:+0200
END:DAYLIGHT
END:VTIMEZONE
BEGIN:VEVENT
UID:pretix-agenceduclimat-apero-mobilite-3-0@pretix.eu
DTSTART;TZID=Europe/Berlin:20260528T180000
DTEND;TZID=Europe/Berlin:20260528T200000
DESCRIPTION:Tickets : https://pretix.eu/agenceduclimat/apero-mobilite-3/\n
 Organisateur : Agence du climat\, le guichet des solutions
DTSTAMP:20260421T061816Z
LOCATION:La Chapelle des Annonciades\, Pl. Dr Albert Schweitzer\, 67500 Hag
 uenau
SUMMARY:Apéro Mobilités - comment faciliter ses déplacements dans la Com
 munauté d'Agglomération de Haguenau
END:VEVENT
END:VCALENDAR
