BEGIN:VCALENDAR
VERSION:2.0
PRODID:-//pretix//pretix.eu//
BEGIN:VTIMEZONE
TZID:Europe/Berlin
BEGIN:STANDARD
DTSTART:20001029T040000
RRULE:FREQ=YEARLY;BYDAY=-1SU;BYMONTH=10
TZNAME:CET
TZOFFSETFROM:+0200
TZOFFSETTO:+0100
END:STANDARD
BEGIN:DAYLIGHT
DTSTART:20000326T030000
RRULE:FREQ=YEARLY;BYDAY=-1SU;BYMONTH=3
TZNAME:CEST
TZOFFSETFROM:+0100
TZOFFSETTO:+0200
END:DAYLIGHT
END:VTIMEZONE
BEGIN:VEVENT
UID:pretix-agfdetmold-onlinecrashkurs-0@pretix.eu
DTSTART;TZID=Europe/Berlin:20220426T160000
DTEND;TZID=Europe/Berlin:20220426T170000
DESCRIPTION:Tickets: https://pretix.eu/agfdetmold/onlinecrashkurs/\nEinlass
 : 26.04.2022 15:45\nVeranstalter: Arbeitsgemeinschaft Getreideforschung e.
 V.
DTSTAMP:20260425T204217Z
LOCATION:-online-
SUMMARY:Online Crashkurs Dinkel\, Emmer und Einkorn : vom Laien zum Profi i
 n einem Nachmittag inkl. ausführlicher Fragestunde mit apl. Prof. Dr. Lon
 gin
END:VEVENT
END:VCALENDAR
