BEGIN:VCALENDAR
VERSION:2.0
PRODID:-//pretix//pretix.eu//
BEGIN:VTIMEZONE
TZID:Europe/Berlin
BEGIN:STANDARD
DTSTART:20001029T040000
RRULE:FREQ=YEARLY;BYDAY=-1SU;BYMONTH=10
TZNAME:CET
TZOFFSETFROM:+0200
TZOFFSETTO:+0100
END:STANDARD
BEGIN:DAYLIGHT
DTSTART:20000326T030000
RRULE:FREQ=YEARLY;BYDAY=-1SU;BYMONTH=3
TZNAME:CEST
TZOFFSETFROM:+0100
TZOFFSETTO:+0200
END:DAYLIGHT
END:VTIMEZONE
BEGIN:VEVENT
UID:pretix-ai-impactdays-meetup2025-0@pretix.eu
DTSTART;TZID=Europe/Berlin:20251113T150000
DTEND;TZID=Europe/Berlin:20251120T200000
DESCRIPTION:Tickets: https://pretix.eu/ai-impactdays/meetup2025/\nVeranstal
 ter: AI Impact Days
DTSTAMP:20260420T130259Z
LOCATION:STARTPLATZ\, Im Mediapark 5\, 50670 Köln
SUMMARY:AI IMPACT DAYS Meetup Köln 2025
END:VEVENT
END:VCALENDAR
