BEGIN:VCALENDAR
VERSION:2.0
PRODID:-//pretix//pretix.eu//
BEGIN:VTIMEZONE
TZID:Europe/Berlin
BEGIN:STANDARD
DTSTART:20001029T040000
RRULE:FREQ=YEARLY;BYDAY=-1SU;BYMONTH=10
TZNAME:CET
TZOFFSETFROM:+0200
TZOFFSETTO:+0100
END:STANDARD
BEGIN:DAYLIGHT
DTSTART:20000326T030000
RRULE:FREQ=YEARLY;BYDAY=-1SU;BYMONTH=3
TZNAME:CEST
TZOFFSETFROM:+0100
TZOFFSETTO:+0200
END:DAYLIGHT
END:VTIMEZONE
BEGIN:VEVENT
UID:pretix-aihubffm-f7asu-0@pretix.eu
DTSTART;TZID=Europe/Berlin:20231129T170000
DTEND;TZID=Europe/Berlin:20231129T220000
DESCRIPTION:Tickets: https://pretix.eu/aihubffm/f7asu/\nVeranstalter: AI Hu
 b Frankfurt
DTSTAMP:20260420T103821Z
LOCATION:Vitra Workspace\, Gutleutstraße 89\, 60329 Frankfurt am Main
SUMMARY:AI & Society | Künstliche Intelligenz in der Arbeitswelt
END:VEVENT
END:VCALENDAR
