BEGIN:VCALENDAR
VERSION:2.0
PRODID:-//pretix//pretix.eu//
BEGIN:VTIMEZONE
TZID:Europe/Berlin
BEGIN:STANDARD
DTSTART:20001029T040000
RRULE:FREQ=YEARLY;BYDAY=-1SU;BYMONTH=10
TZNAME:CET
TZOFFSETFROM:+0200
TZOFFSETTO:+0100
END:STANDARD
BEGIN:DAYLIGHT
DTSTART:20000326T030000
RRULE:FREQ=YEARLY;BYDAY=-1SU;BYMONTH=3
TZNAME:CEST
TZOFFSETFROM:+0100
TZOFFSETTO:+0200
END:DAYLIGHT
END:VTIMEZONE
BEGIN:VEVENT
UID:pretix-airport-events-Weinflug-Downunder-0@pretix.eu
DTSTART;TZID=Europe/Berlin:20251212T193000
DTEND;TZID=Europe/Berlin:20251212T220000
DESCRIPTION:Tickets: https://pretix.eu/airport-events/Weinflug-Downunder/\n
 Einlass: 12.12.2025 19:00\nVeranstalter: Flughafen Erfurt GmbH
DTSTAMP:20260421T041926Z
LOCATION:Flughafen Erfurt-Weimar\, Terminal B\, Binderslebener Landstraße 
 100\, 99092 Erfurt
SUMMARY:Weinflug nach Down Under
END:VEVENT
END:VCALENDAR
