BEGIN:VCALENDAR
VERSION:2.0
PRODID:-//pretix//pretix.eu//
BEGIN:VTIMEZONE
TZID:Europe/Berlin
BEGIN:STANDARD
DTSTART:20001029T040000
RRULE:FREQ=YEARLY;BYDAY=-1SU;BYMONTH=10
TZNAME:CET
TZOFFSETFROM:+0200
TZOFFSETTO:+0100
END:STANDARD
BEGIN:DAYLIGHT
DTSTART:20000326T030000
RRULE:FREQ=YEARLY;BYDAY=-1SU;BYMONTH=3
TZNAME:CEST
TZOFFSETFROM:+0100
TZOFFSETTO:+0200
END:DAYLIGHT
END:VTIMEZONE
BEGIN:VEVENT
UID:pretix-aksioma-book.launch-0@pretix.eu
DTSTART;TZID=Europe/Berlin:20240417T190000
DTEND;TZID=Europe/Berlin:20240417T203000
DESCRIPTION:Tickets: https://pretix.eu/aksioma/book.launch/\nOrganizer: Aks
 ioma - Institute for Contemporary Art\, Ljubljana
DTSTAMP:20260423T042803Z
LOCATION:Cukrarna (predavalnica)\, Poljanski nasip 40\, Ljubljana
SUMMARY:Domen Ograjenšek & Maks Valenčič / predstavitev publikacij
END:VEVENT
END:VCALENDAR
