BEGIN:VCALENDAR
VERSION:2.0
PRODID:-//pretix//pretix.eu//
BEGIN:VTIMEZONE
TZID:Europe/Berlin
BEGIN:STANDARD
DTSTART:20001029T040000
RRULE:FREQ=YEARLY;BYDAY=-1SU;BYMONTH=10
TZNAME:CET
TZOFFSETFROM:+0200
TZOFFSETTO:+0100
END:STANDARD
BEGIN:DAYLIGHT
DTSTART:20000326T030000
RRULE:FREQ=YEARLY;BYDAY=-1SU;BYMONTH=3
TZNAME:CEST
TZOFFSETFROM:+0100
TZOFFSETTO:+0200
END:DAYLIGHT
END:VTIMEZONE
BEGIN:VEVENT
UID:pretix-aktivoli-Sketchnotes-2-0@pretix.eu
DTSTART;TZID=Europe/Berlin:20230902T090000
DTEND;TZID=Europe/Berlin:20230902T130000
DESCRIPTION:Tickets: https://pretix.eu/aktivoli/Sketchnotes-2/\nEinlass: 02
 .09.2023 00:00\nVeranstalter: AKTIVOLI-Landesnetzwerk Hamburg e.V.
DTSTAMP:20260421T175959Z
LOCATION:Haus des Engagements (betahaus\, 1.OG\, Raum MR1)\, Eifflerstraße
  43\, 22769 Hamburg-Sternschanze
SUMMARY:Visualisieren in der Moderation (Sketchnotes)
END:VEVENT
END:VCALENDAR
