BEGIN:VCALENDAR
VERSION:2.0
PRODID:-//pretix//pretix.eu//
BEGIN:VTIMEZONE
TZID:Europe/Berlin
BEGIN:STANDARD
DTSTART:20001029T040000
RRULE:FREQ=YEARLY;BYDAY=-1SU;BYMONTH=10
TZNAME:CET
TZOFFSETFROM:+0200
TZOFFSETTO:+0100
END:STANDARD
BEGIN:DAYLIGHT
DTSTART:20000326T030000
RRULE:FREQ=YEARLY;BYDAY=-1SU;BYMONTH=3
TZNAME:CEST
TZOFFSETFROM:+0100
TZOFFSETTO:+0200
END:DAYLIGHT
END:VTIMEZONE
BEGIN:VEVENT
UID:pretix-aktivoli-aklrf-0@pretix.eu
DTSTART;TZID=Europe/Berlin:20260507T120000
DTEND;TZID=Europe/Berlin:20260507T133000
DESCRIPTION:Tickets: https://pretix.eu/aktivoli/aklrf/\nVeranstalter: AKTIV
 OLI-Landesnetzwerk Hamburg e.V.
DTSTAMP:20260421T070105Z
LOCATION:Zoom
SUMMARY:Engagiert und nicht neutral:  Zum Mythos des Neutralitätsgebots f
 ür Vereine
END:VEVENT
END:VCALENDAR
