BEGIN:VCALENDAR
VERSION:2.0
PRODID:-//pretix//pretix.eu//
BEGIN:VTIMEZONE
TZID:Europe/Berlin
BEGIN:STANDARD
DTSTART:20001029T040000
RRULE:FREQ=YEARLY;BYDAY=-1SU;BYMONTH=10
TZNAME:CET
TZOFFSETFROM:+0200
TZOFFSETTO:+0100
END:STANDARD
BEGIN:DAYLIGHT
DTSTART:20000326T030000
RRULE:FREQ=YEARLY;BYDAY=-1SU;BYMONTH=3
TZNAME:CEST
TZOFFSETFROM:+0100
TZOFFSETTO:+0200
END:DAYLIGHT
END:VTIMEZONE
BEGIN:VEVENT
UID:pretix-alphamedia-chrissteger-0@pretix.eu
DTSTART;TZID=Europe/Berlin:20230916T200000
DTEND;TZID=Europe/Berlin:20230916T210000
DESCRIPTION:Tickets: https://pretix.eu/alphamedia/chrissteger/\nEinlass: 16
 .09.2023 19:00\nVeranstalter: Alphamedia Tirol GmbH
DTSTAMP:20260420T032252Z
LOCATION:Burg Heinfels\, Burgparkplatz\, 9919 Heinfels
SUMMARY:Chris Steger live
END:VEVENT
END:VCALENDAR
