BEGIN:VCALENDAR
VERSION:2.0
PRODID:-//pretix//pretix.eu//
BEGIN:VTIMEZONE
TZID:Europe/Berlin
BEGIN:STANDARD
DTSTART:20001029T040000
RRULE:FREQ=YEARLY;BYDAY=-1SU;BYMONTH=10
TZNAME:CET
TZOFFSETFROM:+0200
TZOFFSETTO:+0100
END:STANDARD
BEGIN:DAYLIGHT
DTSTART:20000326T030000
RRULE:FREQ=YEARLY;BYDAY=-1SU;BYMONTH=3
TZNAME:CEST
TZOFFSETFROM:+0100
TZOFFSETTO:+0200
END:DAYLIGHT
END:VTIMEZONE
BEGIN:VEVENT
UID:pretix-alsharq-8m7qb-0@pretix.eu
DTSTART;TZID=Europe/Berlin:20250526T190000
DTEND;TZID=Europe/Berlin:20250526T200000
DESCRIPTION:Tickets: https://pretix.eu/alsharq/8m7qb/\nVeranstalter: Alshar
 q Reise GmbH
DTSTAMP:20260421T131510Z
LOCATION:https://alsharq-reise-de.zoom.us/j/85168788938?pwd=MX9jWbWCOmOjBIa
 ihM2tOjbnLGufto.1
SUMMARY:Info-Call zur klimafreundlichen Reise auf dem Landweg in die Nordos
 ttürkei
END:VEVENT
END:VCALENDAR
