BEGIN:VCALENDAR
VERSION:2.0
PRODID:-//pretix//pretix.eu//
BEGIN:VTIMEZONE
TZID:Europe/Berlin
BEGIN:STANDARD
DTSTART:20001029T040000
RRULE:FREQ=YEARLY;BYDAY=-1SU;BYMONTH=10
TZNAME:CET
TZOFFSETFROM:+0200
TZOFFSETTO:+0100
END:STANDARD
BEGIN:DAYLIGHT
DTSTART:20000326T030000
RRULE:FREQ=YEARLY;BYDAY=-1SU;BYMONTH=3
TZNAME:CEST
TZOFFSETFROM:+0100
TZOFFSETTO:+0200
END:DAYLIGHT
END:VTIMEZONE
BEGIN:VEVENT
UID:pretix-alsharq-ef3v9-0@pretix.eu
DTSTART;TZID=Europe/Berlin:20240828T190000
DTEND;TZID=Europe/Berlin:20240828T200000
DESCRIPTION:Tickets: https://pretix.eu/alsharq/ef3v9/\nOrganizer: Alsharq R
 eise GmbH
DTSTAMP:20260422T131017Z
LOCATION:https://alsharq-reise-de.zoom.us/j/87876880487?pwd=UkhlZSt0WXhtQUZ
 2WmJ6ZmxuekVwUT09\, Meeting-ID: 878 7688 0487\, Kenncode: 492701
SUMMARY:Arabic Course B1.2 (Level 10): Free Information Event
END:VEVENT
END:VCALENDAR
