BEGIN:VCALENDAR
VERSION:2.0
PRODID:-//pretix//pretix.eu//
BEGIN:VTIMEZONE
TZID:Europe/Berlin
BEGIN:STANDARD
DTSTART:20001029T040000
RRULE:FREQ=YEARLY;BYDAY=-1SU;BYMONTH=10
TZNAME:CET
TZOFFSETFROM:+0200
TZOFFSETTO:+0100
END:STANDARD
BEGIN:DAYLIGHT
DTSTART:20000326T030000
RRULE:FREQ=YEARLY;BYDAY=-1SU;BYMONTH=3
TZNAME:CEST
TZOFFSETFROM:+0100
TZOFFSETTO:+0200
END:DAYLIGHT
END:VTIMEZONE
BEGIN:VEVENT
UID:pretix-alsharq-syrgrndsmnr-4922241@pretix.eu
DTSTART;TZID=Europe/Berlin:20260813T183000
DTEND;TZID=Europe/Berlin:20260813T193000
DESCRIPTION:Tickets: https://pretix.eu/alsharq/syrgrndsmnr/4922241/\nVerans
 talter: Alsharq Reise GmbH
DTSTAMP:20260421T184556Z
SUMMARY:Grundlagenseminar | Geschichte und Gegenwart S0R
END:VEVENT
END:VCALENDAR
