BEGIN:VCALENDAR
VERSION:2.0
PRODID:-//pretix//pretix.eu//
BEGIN:VTIMEZONE
TZID:Europe/Berlin
BEGIN:STANDARD
DTSTART:20001029T040000
RRULE:FREQ=YEARLY;BYDAY=-1SU;BYMONTH=10
TZNAME:CET
TZOFFSETFROM:+0200
TZOFFSETTO:+0100
END:STANDARD
BEGIN:DAYLIGHT
DTSTART:20000326T030000
RRULE:FREQ=YEARLY;BYDAY=-1SU;BYMONTH=3
TZNAME:CEST
TZOFFSETFROM:+0100
TZOFFSETTO:+0200
END:DAYLIGHT
END:VTIMEZONE
BEGIN:VEVENT
UID:pretix-ambach-25jahreambach-0@pretix.eu
DTSTART;TZID=Europe/Berlin:20251021T190000
DTEND;TZID=Europe/Berlin:20251021T210000
DESCRIPTION:Tickets: https://pretix.eu/ambach/25jahreambach/\nEinlass: 21.1
 0.2025 18:30\nVeranstalter: Kulturbühne AMBACH
DTSTAMP:20260419T135830Z
LOCATION:Götzis Kulturbühne AMBACH
SUMMARY:Götzner Gespräche: Orte der Begegnung - 25 Jahre AMBACH
END:VEVENT
END:VCALENDAR
