BEGIN:VCALENDAR
VERSION:2.0
PRODID:-//pretix//pretix.eu//
BEGIN:VTIMEZONE
TZID:Europe/Vienna
BEGIN:STANDARD
DTSTART:20001029T040000
RRULE:FREQ=YEARLY;BYDAY=-1SU;BYMONTH=10
TZNAME:CET
TZOFFSETFROM:+0200
TZOFFSETTO:+0100
END:STANDARD
BEGIN:DAYLIGHT
DTSTART:20000326T030000
RRULE:FREQ=YEARLY;BYDAY=-1SU;BYMONTH=3
TZNAME:CEST
TZOFFSETFROM:+0100
TZOFFSETTO:+0200
END:DAYLIGHT
END:VTIMEZONE
BEGIN:VEVENT
UID:pretix-angewandte-klassekartak-0@pretix.eu
DTSTART;TZID=Europe/Vienna:20210927T183000
DTEND;TZID=Europe/Vienna:20210927T220000
DESCRIPTION:Tickets: https://pretix.eu/angewandte/klassekartak/\nVeranstalt
 er: Universität für angewandte Kunst
DTSTAMP:20260425T204219Z
LOCATION:Universität für angewandte Kunst Wien\, Vordere Zollamtsstraße 
 7\, 1030 Wien\, Auditorium / Atrium
SUMMARY:Eröffnung Ausstellung "FUCK YOU VERY MUCH. DESIGNERS AS TROUBLEMAK
 ERS"
END:VEVENT
END:VCALENDAR
