BEGIN:VCALENDAR
VERSION:2.0
PRODID:-//pretix//pretix.eu//
BEGIN:VTIMEZONE
TZID:Europe/Berlin
BEGIN:STANDARD
DTSTART:20001029T040000
RRULE:FREQ=YEARLY;BYDAY=-1SU;BYMONTH=10
TZNAME:CET
TZOFFSETFROM:+0200
TZOFFSETTO:+0100
END:STANDARD
BEGIN:DAYLIGHT
DTSTART:20000326T030000
RRULE:FREQ=YEARLY;BYDAY=-1SU;BYMONTH=3
TZNAME:CEST
TZOFFSETFROM:+0100
TZOFFSETTO:+0200
END:DAYLIGHT
END:VTIMEZONE
BEGIN:VEVENT
UID:pretix-apb-scheitern-0@pretix.eu
DTSTART;TZID=Europe/Berlin:20261009T163000
DTEND;TZID=Europe/Berlin:20261010T200000
DESCRIPTION:Tickets: https://pretix.eu/apb/scheitern/\nVeranstalter: Arbeit
 sgemeinschaft für Psychoanalyse und Psychotherapie Berlin e.V. (apb)
DTSTAMP:20260422T095702Z
LOCATION:Tagungszentrum Franz-Mehring-Platz 1\, Franz-Mehring-Platz 1\, 102
 43 Berlin
SUMMARY:Scheitern und Widerstand. Gesellschaftliche und individuelle Perspe
 ktiven
END:VEVENT
END:VCALENDAR
