BEGIN:VCALENDAR
VERSION:2.0
PRODID:-//pretix//pretix.eu//
BEGIN:VTIMEZONE
TZID:Europe/Berlin
BEGIN:STANDARD
DTSTART:20001029T040000
RRULE:FREQ=YEARLY;BYDAY=-1SU;BYMONTH=10
TZNAME:CET
TZOFFSETFROM:+0200
TZOFFSETTO:+0100
END:STANDARD
BEGIN:DAYLIGHT
DTSTART:20000326T030000
RRULE:FREQ=YEARLY;BYDAY=-1SU;BYMONTH=3
TZNAME:CEST
TZOFFSETFROM:+0100
TZOFFSETTO:+0200
END:DAYLIGHT
END:VTIMEZONE
BEGIN:VEVENT
UID:pretix-armbruster-imkerschule-bfhamburg-B19-2-2-2-0@pretix.eu
DTSTART;TZID=Europe/Berlin:20200227T100000
DTEND;TZID=Europe/Berlin:20200227T170000
DESCRIPTION:Tickets: https://pretix.eu/armbruster-imkerschule/bfhamburg-B19
 -2-2-2/\nVeranstalter: Prof. Ludwig Armbruster Imkerschule
DTSTAMP:20260421T165727Z
LOCATION:Schloss\, 74592 Kirchberg an der Jagst\, Rittersaal
SUMMARY:Tageskurs "Imkern im Angepassten Brutraum" mit Imkermeister Jürgen
  Binder in Kirchberg an der Jagst
END:VEVENT
END:VCALENDAR
