BEGIN:VCALENDAR
VERSION:2.0
PRODID:-//pretix//pretix.eu//
BEGIN:VTIMEZONE
TZID:Europe/Berlin
BEGIN:STANDARD
DTSTART:20001029T040000
RRULE:FREQ=YEARLY;BYDAY=-1SU;BYMONTH=10
TZNAME:CET
TZOFFSETFROM:+0200
TZOFFSETTO:+0100
END:STANDARD
BEGIN:DAYLIGHT
DTSTART:20000326T030000
RRULE:FREQ=YEARLY;BYDAY=-1SU;BYMONTH=3
TZNAME:CEST
TZOFFSETFROM:+0100
TZOFFSETTO:+0200
END:DAYLIGHT
END:VTIMEZONE
BEGIN:VEVENT
UID:pretix-artlaboratoryberlin-explore-menopause-0@pretix.eu
DTSTART;TZID=Europe/Berlin:20231117T190000
DTEND;TZID=Europe/Berlin:20231117T220000
DESCRIPTION:Tickets: https://pretix.eu/artlaboratoryberlin/explore-menopaus
 e/\nOrganizer: Art Laboratory Berlin
DTSTAMP:20260423T042753Z
LOCATION:Art Laboratory Berlin
SUMMARY:Explore Menopause: It Could Be the Best Time of Your Life!
END:VEVENT
END:VCALENDAR
