BEGIN:VCALENDAR
VERSION:2.0
PRODID:-//pretix//pretix.eu//
BEGIN:VTIMEZONE
TZID:Asia/Baku
BEGIN:STANDARD
DTSTART:20001029T060000
RRULE:FREQ=YEARLY;BYDAY=-1SU;BYMONTH=10
TZNAME:+04
TZOFFSETFROM:+0500
TZOFFSETTO:+0400
END:STANDARD
BEGIN:DAYLIGHT
DTSTART:20000326T050000
RRULE:FREQ=YEARLY;BYDAY=-1SU;BYMONTH=3;UNTIL=20150329T010000Z
TZNAME:+05
TZOFFSETFROM:+0400
TZOFFSETTO:+0500
END:DAYLIGHT
END:VTIMEZONE
BEGIN:VEVENT
UID:pretix-asiin-agune-qa-2026-0@pretix.eu
DTSTART;TZID=Asia/Baku:20260527T090000
DTEND;TZID=Asia/Baku:20260528T180000
DESCRIPTION:Tickets: https://pretix.eu/asiin/agune-qa-2026/\nOrganizer: ASI
 IN Consult GmbH
DTSTAMP:20260420T163345Z
LOCATION:University of Georgia\, 77a\, M. Kostava Str. Tbilisi\,\, 0171\, G
 eorgia
SUMMARY:AGUNE Conference - Quality Assurance in the Digital Age
END:VEVENT
END:VCALENDAR
