BEGIN:VCALENDAR
VERSION:2.0
PRODID:-//pretix//pretix.eu//
BEGIN:VTIMEZONE
TZID:Europe/Madrid
BEGIN:STANDARD
DTSTART:20001029T040000
RRULE:FREQ=YEARLY;BYDAY=-1SU;BYMONTH=10
TZNAME:CET
TZOFFSETFROM:+0200
TZOFFSETTO:+0100
END:STANDARD
BEGIN:DAYLIGHT
DTSTART:20000326T030000
RRULE:FREQ=YEARLY;BYDAY=-1SU;BYMONTH=3
TZNAME:CEST
TZOFFSETFROM:+0100
TZOFFSETTO:+0200
END:DAYLIGHT
END:VTIMEZONE
BEGIN:VEVENT
UID:pretix-asiin-eic2023-0@pretix.eu
DTSTART;TZID=Europe/Madrid:20231214T093000
DTEND;TZID=Europe/Madrid:20231215T143000
DESCRIPTION:Tickets: https://pretix.eu/asiin/eic2023/\nOrganizer: ASIIN Con
 sult GmbH
DTSTAMP:20260424T154949Z
LOCATION:AC Hotel Valencia by Marriott\, Avenida de Francia\, 67\, 46023 Va
 lencia\, Spain
SUMMARY:European Informatics Conference 2023
END:VEVENT
END:VCALENDAR
