BEGIN:VCALENDAR
VERSION:2.0
PRODID:-//pretix//pretix.eu//
BEGIN:VTIMEZONE
TZID:Europe/Belgrade
BEGIN:STANDARD
DTSTART:20001029T040000
RRULE:FREQ=YEARLY;BYDAY=-1SU;BYMONTH=10
TZNAME:CET
TZOFFSETFROM:+0200
TZOFFSETTO:+0100
END:STANDARD
BEGIN:DAYLIGHT
DTSTART:20000326T030000
RRULE:FREQ=YEARLY;BYDAY=-1SU;BYMONTH=3
TZNAME:CEST
TZOFFSETFROM:+0100
TZOFFSETTO:+0200
END:DAYLIGHT
END:VTIMEZONE
BEGIN:VEVENT
UID:pretix-audioforum-af2019-0@pretix.eu
DTSTART;TZID=Europe/Belgrade:20191122T123000
DTEND;TZID=Europe/Belgrade:20191124T160000
DESCRIPTION:Tickets: https://pretix.eu/audioforum/af2019/\nAdmission: 2019-
 11-22 12:30\nOrganizer: Audio Forum
DTSTAMP:20260424T085717Z
LOCATION:UK Stari grad (Kapetan Mišina 6a\, Beograd) i Fakultet dramskih u
 metnosti (Bulevar umetnosti 20\, Beograd)
SUMMARY:Audio Forum 2019
END:VEVENT
END:VCALENDAR
