BEGIN:VCALENDAR
VERSION:2.0
PRODID:-//pretix//pretix.eu//
BEGIN:VTIMEZONE
TZID:Europe/Brussels
BEGIN:STANDARD
DTSTART:20001029T040000
RRULE:FREQ=YEARLY;BYDAY=-1SU;BYMONTH=10
TZNAME:CET
TZOFFSETFROM:+0200
TZOFFSETTO:+0100
END:STANDARD
BEGIN:DAYLIGHT
DTSTART:20000326T030000
RRULE:FREQ=YEARLY;BYDAY=-1SU;BYMONTH=3
TZNAME:CEST
TZOFFSETFROM:+0100
TZOFFSETTO:+0200
END:DAYLIGHT
END:VTIMEZONE
BEGIN:VEVENT
UID:pretix-azug-20201203-0@pretix.eu
DTSTART;TZID=Europe/Brussels:20201203T170000
DTEND;TZID=Europe/Brussels:20201203T180000
DESCRIPTION:Tickets: https://pretix.eu/azug/20201203/\nOrganizer: AZUG vzw
DTSTAMP:20260422T162351Z
SUMMARY:2020-12-03 - Microsoft Q# and Azure Quantum
END:VEVENT
END:VCALENDAR
