BEGIN:VCALENDAR
VERSION:2.0
PRODID:-//pretix//pretix.eu//
BEGIN:VTIMEZONE
TZID:Europe/Berlin
BEGIN:STANDARD
DTSTART:20001029T040000
RRULE:FREQ=YEARLY;BYDAY=-1SU;BYMONTH=10
TZNAME:CET
TZOFFSETFROM:+0200
TZOFFSETTO:+0100
END:STANDARD
BEGIN:DAYLIGHT
DTSTART:20000326T030000
RRULE:FREQ=YEARLY;BYDAY=-1SU;BYMONTH=3
TZNAME:CEST
TZOFFSETFROM:+0100
TZOFFSETTO:+0200
END:DAYLIGHT
END:VTIMEZONE
BEGIN:VEVENT
UID:pretix-badminton-aktiv-4831192@pretix.eu
DTSTART;TZID=Europe/Berlin:20260204T200000
DTEND;TZID=Europe/Berlin:20260204T220000
DESCRIPTION:Tickets: https://pretix.eu/badminton/aktiv/4831192/\nVeranstalt
 er: Abteilung Badminton
DTSTAMP:20260421T192852Z
LOCATION:Al campo\, Am Kräherwald 190A
SUMMARY:Neujahrs-/Weihnachtsessen
END:VEVENT
END:VCALENDAR
