BEGIN:VCALENDAR
VERSION:2.0
PRODID:-//pretix//pretix.eu//
BEGIN:VEVENT
UID:pretix-baeder-24-0@pretix.eu
DTSTART;VALUE=DATE:20240427
DTEND;VALUE=DATE:20240930
DESCRIPTION:Tickets: https://pretix.eu/baeder/24/\nVeranstalter: Berliner B
 äder-Betriebe
DTSTAMP:20260424T101059Z
SUMMARY:Sommerbad Olympiastadion
END:VEVENT
END:VCALENDAR
