BEGIN:VCALENDAR
VERSION:2.0
PRODID:-//pretix//pretix.eu//
BEGIN:VEVENT
UID:pretix-baeder-48-0@pretix.eu
DTSTART;VALUE=DATE:20240615
DTEND;VALUE=DATE:20240923
DESCRIPTION:Tickets: https://pretix.eu/baeder/48/\nVeranstalter: Berliner B
 äder-Betriebe
DTSTAMP:20260425T015447Z
SUMMARY:Sommerbad Mariendorf (Rixdorfer Straße)
END:VEVENT
END:VCALENDAR
