BEGIN:VCALENDAR
VERSION:2.0
PRODID:-//pretix//pretix.eu//
BEGIN:VEVENT
UID:pretix-bagfa-260624-0@pretix.eu
DTSTART;VALUE=DATE:20260624
DTEND;VALUE=DATE:20260627
DESCRIPTION:Tickets: https://pretix.eu/bagfa/260624/\nVeranstalter: bagfa e
 .V.
DTSTAMP:20260424T224530Z
LOCATION:Burkardushaus Würzburg\, Am Bruderhof 1\, 97070 Würzburg
SUMMARY:bagfa-Jahrestagung 2026 "Erfolgsmodell Freiwilligenagentur: Warum w
 ir weiter zuversichtlich Engagement gestalten!"
END:VEVENT
END:VCALENDAR
