BEGIN:VCALENDAR
VERSION:2.0
PRODID:-//pretix//pretix.eu//
BEGIN:VTIMEZONE
TZID:Europe/Berlin
BEGIN:STANDARD
DTSTART:20001029T040000
RRULE:FREQ=YEARLY;BYDAY=-1SU;BYMONTH=10
TZNAME:CET
TZOFFSETFROM:+0200
TZOFFSETTO:+0100
END:STANDARD
BEGIN:DAYLIGHT
DTSTART:20000326T030000
RRULE:FREQ=YEARLY;BYDAY=-1SU;BYMONTH=3
TZNAME:CEST
TZOFFSETFROM:+0100
TZOFFSETTO:+0200
END:DAYLIGHT
END:VTIMEZONE
BEGIN:VEVENT
UID:pretix-bandev-qasession-saas-0@pretix.eu
DTSTART;TZID=Europe/Berlin:20240221T120000
DTEND;TZID=Europe/Berlin:20240221T130000
DESCRIPTION:Tickets: https://pretix.eu/bandev/qasession-saas/\nVeranstalter
 : Business Angels Deutschland  (BAND) e.V.
DTSTAMP:20260424T003302Z
LOCATION:Online über ZOOM
SUMMARY:Q&A Lunch Session in Kooperation mit Lutz |Abel: Sie fragen\, Exper
 ten antworten zum Thema "SaaS-Verträge"
END:VEVENT
END:VCALENDAR
