BEGIN:VCALENDAR
VERSION:2.0
PRODID:-//pretix//pretix.eu//
BEGIN:VTIMEZONE
TZID:Europe/Berlin
BEGIN:STANDARD
DTSTART:20001029T040000
RRULE:FREQ=YEARLY;BYDAY=-1SU;BYMONTH=10
TZNAME:CET
TZOFFSETFROM:+0200
TZOFFSETTO:+0100
END:STANDARD
BEGIN:DAYLIGHT
DTSTART:20000326T030000
RRULE:FREQ=YEARLY;BYDAY=-1SU;BYMONTH=3
TZNAME:CEST
TZOFFSETFROM:+0100
TZOFFSETTO:+0200
END:DAYLIGHT
END:VTIMEZONE
BEGIN:VEVENT
UID:pretix-bandev-susProfit-0@pretix.eu
DTSTART;TZID=Europe/Berlin:20240912T140000
DTEND;TZID=Europe/Berlin:20240912T220000
DESCRIPTION:Tickets: https://pretix.eu/bandev/susProfit/\nVeranstalter: Bus
 iness Angels Deutschland  (BAND) e.V.
DTSTAMP:20260424T003324Z
LOCATION:HAMBURG
SUMMARY:„Sustainable“ Profit - Wie Start-ups den Spagat zwischen Impact
  und Gewinnorientierung meistern
END:VEVENT
END:VCALENDAR
