BEGIN:VCALENDAR
VERSION:2.0
PRODID:-//pretix//pretix.eu//
BEGIN:VTIMEZONE
TZID:America/Los_Angeles
BEGIN:STANDARD
DTSTART:20001029T030000
RRULE:FREQ=YEARLY;BYDAY=-1SU;BYMONTH=10;UNTIL=20061029T100000Z
TZNAME:PST
TZOFFSETFROM:-0700
TZOFFSETTO:-0800
END:STANDARD
BEGIN:STANDARD
DTSTART:20071104T030000
RRULE:FREQ=YEARLY;BYDAY=1SU;BYMONTH=11
TZNAME:PST
TZOFFSETFROM:-0700
TZOFFSETTO:-0800
END:STANDARD
BEGIN:DAYLIGHT
DTSTART:20000402T030000
RRULE:FREQ=YEARLY;BYDAY=1SU;BYMONTH=4;UNTIL=20060402T110000Z
TZNAME:PDT
TZOFFSETFROM:-0800
TZOFFSETTO:-0700
END:DAYLIGHT
BEGIN:DAYLIGHT
DTSTART:20070311T030000
RRULE:FREQ=YEARLY;BYDAY=2SU;BYMONTH=3
TZNAME:PDT
TZOFFSETFROM:-0800
TZOFFSETTO:-0700
END:DAYLIGHT
END:VTIMEZONE
BEGIN:VEVENT
UID:pretix-bapya-pybay-2024-0@pretix.eu
DTSTART;TZID=America/Los_Angeles:20240921T100000
DTEND;TZID=America/Los_Angeles:20240921T180000
DESCRIPTION:Tickets: https://pretix.eu/bapya/pybay-2024/\nAdmission: 09/21/
 2024 9:30 a.m.\nOrganizer: Bay Area Python Association
DTSTAMP:20260423T160618Z
LOCATION:1675 Owens St\, San Francisco\, CA 94158
SUMMARY:PyBay 2024
END:VEVENT
END:VCALENDAR
