BEGIN:VCALENDAR
VERSION:2.0
PRODID:-//pretix//pretix.eu//
BEGIN:VTIMEZONE
TZID:Europe/Berlin
BEGIN:STANDARD
DTSTART:20001029T040000
RRULE:FREQ=YEARLY;BYDAY=-1SU;BYMONTH=10
TZNAME:CET
TZOFFSETFROM:+0200
TZOFFSETTO:+0100
END:STANDARD
BEGIN:DAYLIGHT
DTSTART:20000326T030000
RRULE:FREQ=YEARLY;BYDAY=-1SU;BYMONTH=3
TZNAME:CEST
TZOFFSETFROM:+0100
TZOFFSETTO:+0200
END:DAYLIGHT
END:VTIMEZONE
BEGIN:VEVENT
UID:pretix-basapolbil-fortbildung-0@pretix.eu
DTSTART;TZID=Europe/Berlin:20231209T090000
DTEND;TZID=Europe/Berlin:20231210T161000
DESCRIPTION:Tickets: https://pretix.eu/basapolbil/fortbildung/\nVeranstalte
 r: basa e.V.
DTSTAMP:20260423T042756Z
LOCATION:Schulstr. 3\, 61267 Neu-Anspach
SUMMARY:Teamer:innen-Fortbildung: „Politische Bildung mit Haltung machen“
END:VEVENT
END:VCALENDAR
