BEGIN:VCALENDAR
VERSION:2.0
PRODID:-//pretix//pretix.eu//
BEGIN:VTIMEZONE
TZID:Europe/Madrid
BEGIN:STANDARD
DTSTART:20001029T040000
RRULE:FREQ=YEARLY;BYDAY=-1SU;BYMONTH=10
TZNAME:CET
TZOFFSETFROM:+0200
TZOFFSETTO:+0100
END:STANDARD
BEGIN:DAYLIGHT
DTSTART:20000326T030000
RRULE:FREQ=YEARLY;BYDAY=-1SU;BYMONTH=3
TZNAME:CEST
TZOFFSETFROM:+0100
TZOFFSETTO:+0200
END:DAYLIGHT
END:VTIMEZONE
BEGIN:VEVENT
UID:pretix-basquetvendrell-partitpayton-0@pretix.eu
DTSTART;TZID=Europe/Madrid:20250730T210000
DTEND;TZID=Europe/Madrid:20250730T225959
DESCRIPTION:Entradas: https://pretix.eu/basquetvendrell/partitpayton/\nOrga
 nizador: Associació de Bàsquet el Vendrell
DTSTAMP:20260424T014032Z
LOCATION:👉  En el procés de compra\, s'afegeixen les despeses de gesti
 ó.\, Pavelló Santa Maria del Mar\, Coma-ruga
SUMMARY:PARTIT PAYTON PRITCHARD
END:VEVENT
END:VCALENDAR
