BEGIN:VCALENDAR
VERSION:2.0
PRODID:-//pretix//pretix.eu//
BEGIN:VTIMEZONE
TZID:Europe/Berlin
BEGIN:STANDARD
DTSTART:20001029T040000
RRULE:FREQ=YEARLY;BYDAY=-1SU;BYMONTH=10
TZNAME:CET
TZOFFSETFROM:+0200
TZOFFSETTO:+0100
END:STANDARD
BEGIN:DAYLIGHT
DTSTART:20000326T030000
RRULE:FREQ=YEARLY;BYDAY=-1SU;BYMONTH=3
TZNAME:CEST
TZOFFSETFROM:+0100
TZOFFSETTO:+0200
END:DAYLIGHT
END:VTIMEZONE
BEGIN:VEVENT
UID:pretix-bbw-le-ehe-0@pretix.eu
DTSTART;TZID=Europe/Berlin:20260530T140000
DTEND;TZID=Europe/Berlin:20260530T230000
DESCRIPTION:Tickets: https://pretix.eu/bbw-le/ehe/\nEinlass: 30.05.2026 14:
 00\nVeranstalter: BBW Leipzig
DTSTAMP:20260420T114135Z
LOCATION:Berufsbildungswerk Leipzig - Sporthalle
SUMMARY:Das Ehemaligentreffen
END:VEVENT
END:VCALENDAR
