BEGIN:VCALENDAR
VERSION:2.0
PRODID:-//pretix//pretix.eu//
BEGIN:VTIMEZONE
TZID:Europe/Berlin
BEGIN:STANDARD
DTSTART:20001029T040000
RRULE:FREQ=YEARLY;BYDAY=-1SU;BYMONTH=10
TZNAME:CET
TZOFFSETFROM:+0200
TZOFFSETTO:+0100
END:STANDARD
BEGIN:DAYLIGHT
DTSTART:20000326T030000
RRULE:FREQ=YEARLY;BYDAY=-1SU;BYMONTH=3
TZNAME:CEST
TZOFFSETFROM:+0100
TZOFFSETTO:+0200
END:DAYLIGHT
END:VTIMEZONE
BEGIN:VEVENT
UID:pretix-bddmei-abendlob-0@pretix.eu
DTSTART;TZID=Europe/Berlin:20210516T160000
DTEND;TZID=Europe/Berlin:20210516T170000
DESCRIPTION:Tickets: https://pretix.eu/bddmei/abendlob/\nEinlass: 16.05.202
 1 15:30\nVeranstalter: Bistum Dresden-Meißen
DTSTAMP:20260425T005538Z
LOCATION:Kathedrale Ss. Trinitatis Dresden\, Schloßplatz\, 01067 Dresden
SUMMARY:Ökumenisches Abendlob -  "Am Abend des ersten Tages der Woche" (Ge
 denken 1700 Jahre freier Sonntag)
END:VEVENT
END:VCALENDAR
