BEGIN:VCALENDAR
VERSION:2.0
PRODID:-//pretix//pretix.eu//
BEGIN:VEVENT
UID:pretix-bdp-75Jahre-0@pretix.eu
DTSTART;VALUE=DATE:20210604
DTEND;VALUE=DATE:20210607
DESCRIPTION:Tickets: https://pretix.eu/bdp/75Jahre/\nVeranstalter: Berufsve
 rband Deutscher Psychologinnen und Psychologen e. V.
DTSTAMP:20260420T152806Z
LOCATION:Online
SUMMARY:75 Jahre Berufsverband Deutscher Psychologinnen und Psychologen
END:VEVENT
END:VCALENDAR
