BEGIN:VCALENDAR
VERSION:2.0
PRODID:-//pretix//pretix.eu//
BEGIN:VTIMEZONE
TZID:Europe/Berlin
BEGIN:STANDARD
DTSTART:20001029T040000
RRULE:FREQ=YEARLY;BYDAY=-1SU;BYMONTH=10
TZNAME:CET
TZOFFSETFROM:+0200
TZOFFSETTO:+0100
END:STANDARD
BEGIN:DAYLIGHT
DTSTART:20000326T030000
RRULE:FREQ=YEARLY;BYDAY=-1SU;BYMONTH=3
TZNAME:CEST
TZOFFSETFROM:+0100
TZOFFSETTO:+0200
END:DAYLIGHT
END:VTIMEZONE
BEGIN:VEVENT
UID:pretix-bereichkultur-2021-daemmerungsfuehrung-0@pretix.eu
DTSTART;TZID=Europe/Berlin:20211030T180000
DTEND;TZID=Europe/Berlin:20211030T190000
DESCRIPTION:Tickets: https://pretix.eu/bereichkultur/2021-daemmerungsfuehru
 ng/\nVeranstalter: Amt für Kultur und Weiterbildung der Kreisstadt Unna
DTSTAMP:20260420T175451Z
LOCATION:Treffpunkt (15 Minuten vor Beginn):\, Info-Counter i-Punkt\, Zentr
 um für Information und Bildung (zib)\, Lindenplatz 1\, 59423 Unna
SUMMARY:5. Nacht der Lichtkunst | Dämmerungsführung in den Skyspace
END:VEVENT
END:VCALENDAR
