BEGIN:VCALENDAR
VERSION:2.0
PRODID:-//pretix//pretix.eu//
BEGIN:VTIMEZONE
TZID:Europe/Berlin
BEGIN:STANDARD
DTSTART:20001029T040000
RRULE:FREQ=YEARLY;BYDAY=-1SU;BYMONTH=10
TZNAME:CET
TZOFFSETFROM:+0200
TZOFFSETTO:+0100
END:STANDARD
BEGIN:DAYLIGHT
DTSTART:20000326T030000
RRULE:FREQ=YEARLY;BYDAY=-1SU;BYMONTH=3
TZNAME:CEST
TZOFFSETFROM:+0100
TZOFFSETTO:+0200
END:DAYLIGHT
END:VTIMEZONE
BEGIN:VEVENT
UID:pretix-berliner-praeventionstag-2025-0@pretix.eu
DTSTART;TZID=Europe/Berlin:20251016T093000
DTEND;TZID=Europe/Berlin:20251016T170000
DESCRIPTION:Tickets: https://pretix.eu/berliner-praeventionstag/2025/\nEinl
 ass: 16.10.2025 08:30\nVeranstalter: Landeskommission Berlin gegen Gewalt
DTSTAMP:20260422T225424Z
LOCATION:ZK/U\, Siemensstraße 27\, 10551 Berlin
SUMMARY:Berliner Präventionstag 2025
END:VEVENT
END:VCALENDAR
