BEGIN:VCALENDAR
VERSION:2.0
PRODID:-//pretix//pretix.eu//
BEGIN:VTIMEZONE
TZID:Europe/Berlin
BEGIN:STANDARD
DTSTART:20001029T040000
RRULE:FREQ=YEARLY;BYDAY=-1SU;BYMONTH=10
TZNAME:CET
TZOFFSETFROM:+0200
TZOFFSETTO:+0100
END:STANDARD
BEGIN:DAYLIGHT
DTSTART:20000326T030000
RRULE:FREQ=YEARLY;BYDAY=-1SU;BYMONTH=3
TZNAME:CEST
TZOFFSETFROM:+0100
TZOFFSETTO:+0200
END:DAYLIGHT
END:VTIMEZONE
BEGIN:VEVENT
UID:pretix-berliner-praeventionstag-FachdialogKHSB-0@pretix.eu
DTSTART;TZID=Europe/Berlin:20250701T090000
DTEND;TZID=Europe/Berlin:20250701T150000
DESCRIPTION:Tickets: https://pretix.eu/berliner-praeventionstag/FachdialogK
 HSB/\nVeranstalter: Landeskommission Berlin gegen Gewalt
DTSTAMP:20260420T143340Z
LOCATION:Aula der Katholischen Hochschule für Sozialwesen Berlin\, Köpeni
 cker Allee 39-57\, 10318 Berlin
SUMMARY:Fachdialog Wissenschaft - Praxis Radikale Zukunft? - Sozialarbeit g
 egen Extremismus
END:VEVENT
END:VCALENDAR
