BEGIN:VCALENDAR
VERSION:2.0
PRODID:-//pretix//pretix.eu//
BEGIN:VTIMEZONE
TZID:Europe/Berlin
BEGIN:STANDARD
DTSTART:20001029T040000
RRULE:FREQ=YEARLY;BYDAY=-1SU;BYMONTH=10
TZNAME:CET
TZOFFSETFROM:+0200
TZOFFSETTO:+0100
END:STANDARD
BEGIN:DAYLIGHT
DTSTART:20000326T030000
RRULE:FREQ=YEARLY;BYDAY=-1SU;BYMONTH=3
TZNAME:CEST
TZOFFSETFROM:+0100
TZOFFSETTO:+0200
END:DAYLIGHT
END:VTIMEZONE
BEGIN:VEVENT
UID:pretix-bima-23048-Hoerbe-3932932@pretix.eu
DTSTART;TZID=Europe/Berlin:20231015T160000
DTEND;TZID=Europe/Berlin:20231015T170000
DESCRIPTION:Tickets: https://pretix.eu/bima/23048-Hoerbe/3932932/\nEinlass:
  15.10.2023 15:30\nVeranstalter: Bielefeld Marketing GmbH
DTSTAMP:20260422T112553Z
LOCATION:Herforder Str. 5-7\, 33602 Bielefeld
SUMMARY:Hörbe mit dem großen Hut
END:VEVENT
END:VCALENDAR
