BEGIN:VCALENDAR
VERSION:2.0
PRODID:-//pretix//pretix.eu//
BEGIN:VTIMEZONE
TZID:Europe/Berlin
BEGIN:STANDARD
DTSTART:20001029T040000
RRULE:FREQ=YEARLY;BYDAY=-1SU;BYMONTH=10
TZNAME:CET
TZOFFSETFROM:+0200
TZOFFSETTO:+0100
END:STANDARD
BEGIN:DAYLIGHT
DTSTART:20000326T030000
RRULE:FREQ=YEARLY;BYDAY=-1SU;BYMONTH=3
TZNAME:CEST
TZOFFSETFROM:+0100
TZOFFSETTO:+0200
END:DAYLIGHT
END:VTIMEZONE
BEGIN:VEVENT
UID:pretix-bima-24010-Eichhor-4149325@pretix.eu
DTSTART;TZID=Europe/Berlin:20241215T140000
DTEND;TZID=Europe/Berlin:20241215T150000
DESCRIPTION:Tickets: https://pretix.eu/bima/24010-Eichhor/4149325/\nEinlass
 : 15.12.2024 13:30\nVeranstalter: Bielefeld Marketing GmbH
DTSTAMP:20260420T071847Z
LOCATION:Herforder Str. 5-7\, 33602 Bielefeld
SUMMARY:Herr Eichhorn und der erste Schnee
END:VEVENT
END:VCALENDAR
