BEGIN:VCALENDAR
VERSION:2.0
PRODID:-//pretix//pretix.eu//
BEGIN:VTIMEZONE
TZID:Europe/Berlin
BEGIN:STANDARD
DTSTART:20001029T040000
RRULE:FREQ=YEARLY;BYDAY=-1SU;BYMONTH=10
TZNAME:CET
TZOFFSETFROM:+0200
TZOFFSETTO:+0100
END:STANDARD
BEGIN:DAYLIGHT
DTSTART:20000326T030000
RRULE:FREQ=YEARLY;BYDAY=-1SU;BYMONTH=3
TZNAME:CEST
TZOFFSETFROM:+0100
TZOFFSETTO:+0200
END:DAYLIGHT
END:VTIMEZONE
BEGIN:VEVENT
UID:pretix-bleck-checkin-4839513@pretix.eu
DTSTART;TZID=Europe/Berlin:20260520T150000
DTEND;TZID=Europe/Berlin:20260520T160000
DESCRIPTION:Tickets: https://pretix.eu/bleck/checkin/4839513/\nVeranstalter
 : Bleckwandhütte
DTSTAMP:20260423T021156Z
LOCATION:Die Bleckwandhütte auf 1.331 m bietet Doppelzimmer mit Seeblick o
 der Lagerbetten. Frisch renoviert\, alpiner Charme und traumhaftes Panoram
 a – ideal für eine echte Hüttenübernachtung.
SUMMARY:Reservierung auf der Bleckwandhütte
END:VEVENT
END:VCALENDAR
