BEGIN:VCALENDAR
VERSION:2.0
PRODID:-//pretix//pretix.eu//
BEGIN:VEVENT
UID:pretix-bmbf-itsf-2025-0@pretix.eu
DTSTART;VALUE=DATE:20250317
DTEND;VALUE=DATE:20250320
DESCRIPTION:Tickets: https://pretix.eu/bmbf/itsf-2025/\nVeranstalter: ALT: 
 VDI/VDE Innovation + Technik GmbH im Auftrag des Bundesministerium für Bi
 ldung und Forschung (BMBF)
DTSTAMP:20260424T231155Z
LOCATION:bcc Berlin\, Alexanderstr. 11\, 10178 Berlin
SUMMARY:Nationale Konferenz IT-Sicherheitsforschung 2025 - Cybersicherheit 
 und Demokratie
END:VEVENT
END:VCALENDAR
