BEGIN:VCALENDAR
VERSION:2.0
PRODID:-//pretix//pretix.eu//
BEGIN:VTIMEZONE
TZID:Europe/Berlin
BEGIN:STANDARD
DTSTART:20001029T040000
RRULE:FREQ=YEARLY;BYDAY=-1SU;BYMONTH=10
TZNAME:CET
TZOFFSETFROM:+0200
TZOFFSETTO:+0100
END:STANDARD
BEGIN:DAYLIGHT
DTSTART:20000326T030000
RRULE:FREQ=YEARLY;BYDAY=-1SU;BYMONTH=3
TZNAME:CEST
TZOFFSETFROM:+0100
TZOFFSETTO:+0200
END:DAYLIGHT
END:VTIMEZONE
BEGIN:VEVENT
UID:pretix-bmc-gleis11230326-0@pretix.eu
DTSTART;TZID=Europe/Berlin:20240322T200000
DTEND;TZID=Europe/Berlin:20240322T210000
DESCRIPTION:Tickets: https://pretix.eu/bmc/gleis11230326/\nEinlass: 22.03.2
 024 19:30\nVeranstalter: BM.CULTURA GmbH
DTSTAMP:20260425T195757Z
LOCATION:Gleis 11\, Frenser Straße 11\, 50127 Bergheim
SUMMARY:Halvlang
END:VEVENT
END:VCALENDAR
