BEGIN:VCALENDAR
VERSION:2.0
PRODID:-//pretix//pretix.eu//
BEGIN:VTIMEZONE
TZID:Europe/Berlin
BEGIN:STANDARD
DTSTART:20001029T040000
RRULE:FREQ=YEARLY;BYDAY=-1SU;BYMONTH=10
TZNAME:CET
TZOFFSETFROM:+0200
TZOFFSETTO:+0100
END:STANDARD
BEGIN:DAYLIGHT
DTSTART:20000326T030000
RRULE:FREQ=YEARLY;BYDAY=-1SU;BYMONTH=3
TZNAME:CEST
TZOFFSETFROM:+0100
TZOFFSETTO:+0200
END:DAYLIGHT
END:VTIMEZONE
BEGIN:VEVENT
UID:pretix-bmc-gleis131122-0@pretix.eu
DTSTART;TZID=Europe/Berlin:20221113T190000
DTEND;TZID=Europe/Berlin:20221113T200000
DESCRIPTION:Tickets: https://pretix.eu/bmc/gleis131122/\nEinlass: 13.11.202
 2 18:30\nVeranstalter: BM.CULTURA GmbH
DTSTAMP:20260426T030447Z
LOCATION:Gleis 11\, Frenser Straße 11\, 50127 Bergheim
SUMMARY:Sebastian Reimann Quartett – Hommage á Stéphane
END:VEVENT
END:VCALENDAR
