BEGIN:VCALENDAR
VERSION:2.0
PRODID:-//pretix//pretix.eu//
BEGIN:VTIMEZONE
TZID:Europe/Berlin
BEGIN:STANDARD
DTSTART:20001029T040000
RRULE:FREQ=YEARLY;BYDAY=-1SU;BYMONTH=10
TZNAME:CET
TZOFFSETFROM:+0200
TZOFFSETTO:+0100
END:STANDARD
BEGIN:DAYLIGHT
DTSTART:20000326T030000
RRULE:FREQ=YEARLY;BYDAY=-1SU;BYMONTH=3
TZNAME:CEST
TZOFFSETFROM:+0100
TZOFFSETTO:+0200
END:DAYLIGHT
END:VTIMEZONE
BEGIN:VEVENT
UID:pretix-bnl-trier-0@pretix.eu
DTSTART;TZID=Europe/Berlin:20260413T190000
DTEND;TZID=Europe/Berlin:20260413T210000
DESCRIPTION:Tickets: https://pretix.eu/bnl/trier/\nOrganizer: Bibliothèque
  nationale du Luxembourg
DTSTAMP:20260425T215337Z
LOCATION:Bibliothèque nationale du Luxembourg\, 37D avenue John F. Kennedy
 \, L-1855 Luxembourg
SUMMARY:Das Trierer Weltdokumentenerbe – Rückblick und Ausblick
END:VEVENT
BEGIN:VEVENT
UID:pretix-bnl-constitution-0@pretix.eu
DTSTART;TZID=Europe/Berlin:20260415T180000
DTEND;TZID=Europe/Berlin:20260415T200000
DESCRIPTION:Tickets: https://pretix.eu/bnl/constitution/\nOrganizer: Biblio
 thèque nationale du Luxembourg
DTSTAMP:20260425T215337Z
LOCATION:Bibliothèque nationale du Luxembourg\, 37D avenue John F. Kennedy
 \, L-1855 Luxembourg
SUMMARY:La nouvelle Constitution dans les avis du Conseil d’État – Que
 lles évolutions peut-on constater ?
END:VEVENT
BEGIN:VEVENT
UID:pretix-bnl-ebooks1804-0@pretix.eu
DTSTART;TZID=Europe/Berlin:20260418T140000
DTEND;TZID=Europe/Berlin:20260418T160000
DESCRIPTION:Tickets: https://pretix.eu/bnl/ebooks1804/\nOrganizer: Biblioth
 èque nationale du Luxembourg
DTSTAMP:20260425T215337Z
LOCATION:Bibliothèque nationale du Luxembourg\, 37D avenue John F. Kennedy
 \, L-1855 Luxembourg
SUMMARY:From paper to screen: mastering the ebooks.lu offering
END:VEVENT
BEGIN:VEVENT
UID:pretix-bnl-green-0@pretix.eu
DTSTART;TZID=Europe/Berlin:20260423T190000
DTEND;TZID=Europe/Berlin:20260423T210000
DESCRIPTION:Tickets: https://pretix.eu/bnl/green/\nOrganizer: Bibliothèque
  nationale du Luxembourg
DTSTAMP:20260425T215337Z
LOCATION:Bibliothèque nationale du Luxembourg\, 37D avenue John F. Kennedy
 \, L-1855 Luxembourg
SUMMARY:Green Cities and Sustainable Urbanism: Yesterday\, Today and Tomorr
 ow
END:VEVENT
BEGIN:VEVENT
UID:pretix-bnl-ateliermp-0@pretix.eu
DTSTART;TZID=Europe/Berlin:20260425T140000
DTEND;TZID=Europe/Berlin:20260425T160000
DESCRIPTION:Tickets: https://pretix.eu/bnl/ateliermp/\nOrganizer: Biblioth
 èque nationale du Luxembourg
DTSTAMP:20260425T215337Z
LOCATION:Bibliothèque nationale du Luxembourg\, 37D avenue John F. Kennedy
 \, L-1855 Luxembourg
SUMMARY:Create your own bookmark inspired by our collections
END:VEVENT
BEGIN:VEVENT
UID:pretix-bnl-sprooch-0@pretix.eu
DTSTART;TZID=Europe/Berlin:20260505T190000
DTEND;TZID=Europe/Berlin:20260505T210000
DESCRIPTION:Tickets: https://pretix.eu/bnl/sprooch/\nOrganizer: Bibliothèq
 ue nationale du Luxembourg
DTSTAMP:20260425T215337Z
LOCATION:Bibliothèque nationale du Luxembourg\, 37D avenue John F. Kennedy
 \, L-1855 Luxembourg
SUMMARY:Nationale Präis fir d’Ver­déng­schter ëm d’Lëtz­ebuerg­er Sprooch
END:VEVENT
BEGIN:VEVENT
UID:pretix-bnl-az0705-0@pretix.eu
DTSTART;TZID=Europe/Berlin:20260507T173000
DTEND;TZID=Europe/Berlin:20260507T193000
DESCRIPTION:Tickets: https://pretix.eu/bnl/az0705/\nOrganizer: Bibliothèqu
 e nationale du Luxembourg
DTSTAMP:20260425T215337Z
LOCATION:Bibliothèque nationale du Luxembourg\, 37D avenue John F. Kennedy
 \, L-1855 Luxembourg
SUMMARY:Discover a-z.lu and improve your skills
END:VEVENT
BEGIN:VEVENT
UID:pretix-bnl-comics-0@pretix.eu
DTSTART;TZID=Europe/Berlin:20260520T190000
DTEND;TZID=Europe/Berlin:20260520T210000
DESCRIPTION:Tickets: https://pretix.eu/bnl/comics/\nOrganizer: Bibliothèqu
 e nationale du Luxembourg
DTSTAMP:20260425T215337Z
LOCATION:Bibliothèque nationale du Luxembourg\, 37D avenue John F. Kennedy
 \, L-1855 Luxembourg
SUMMARY:Spielarten der Spannung in Comics – Zur Ligne Claire\, Superhelde
 ntum und autobiographischer sequenzieller Kunst
END:VEVENT
BEGIN:VEVENT
UID:pretix-bnl-h3-0@pretix.eu
DTSTART;TZID=Europe/Berlin:20260603T190000
DTEND;TZID=Europe/Berlin:20260603T210000
DESCRIPTION:Tickets: https://pretix.eu/bnl/h3/\nOrganizer: Bibliothèque na
 tionale du Luxembourg
DTSTAMP:20260425T215337Z
LOCATION:Bibliothèque nationale du Luxembourg\, 37D avenue John F. Kennedy
 \, L-1855 Luxembourg
SUMMARY:Literatur hoch 3
END:VEVENT
BEGIN:VEVENT
UID:pretix-bnl-sovereignty-0@pretix.eu
DTSTART;TZID=Europe/Berlin:20260609T180000
DTEND;TZID=Europe/Berlin:20260609T200000
DESCRIPTION:Tickets: https://pretix.eu/bnl/sovereignty/\nOrganizer: Bibliot
 hèque nationale du Luxembourg
DTSTAMP:20260425T215337Z
LOCATION:Bibliothèque nationale du Luxembourg\, 37D avenue John F. Kennedy
 \, L-1855 Luxembourg
SUMMARY:How Sovereignty Shapes Global Politics in an Unequal World
END:VEVENT
BEGIN:VEVENT
UID:pretix-bnl-debris-0@pretix.eu
DTSTART;TZID=Europe/Berlin:20260610T190000
DTEND;TZID=Europe/Berlin:20260610T210000
DESCRIPTION:Tickets: https://pretix.eu/bnl/debris/\nOrganizer: Bibliothèqu
 e nationale du Luxembourg
DTSTAMP:20260425T215337Z
LOCATION:Bibliothèque nationale du Luxembourg\, 37D avenue John F. Kennedy
 \, L-1855 Luxembourg
SUMMARY:Space Debris – what is it and how can we get rid of it?
END:VEVENT
BEGIN:VEVENT
UID:pretix-bnl-action-0@pretix.eu
DTSTART;TZID=Europe/Berlin:20260701T180000
DTEND;TZID=Europe/Berlin:20260701T200000
DESCRIPTION:Tickets: https://pretix.eu/bnl/action/\nOrganizer: Bibliothèqu
 e nationale du Luxembourg
DTSTAMP:20260425T215337Z
LOCATION:Bibliothèque nationale du Luxembourg\, 37D avenue John F. Kennedy
 \, L-1855 Luxembourg
SUMMARY:L’Action individuelle devant les juridictions européennes – un
 e présentation comparée
END:VEVENT
BEGIN:VEVENT
UID:pretix-bnl-ebooks1107-0@pretix.eu
DTSTART;TZID=Europe/Berlin:20260711T140000
DTEND;TZID=Europe/Berlin:20260711T160000
DESCRIPTION:Tickets: https://pretix.eu/bnl/ebooks1107/\nOrganizer: Biblioth
 èque nationale du Luxembourg
DTSTAMP:20260425T215337Z
LOCATION:Bibliothèque nationale du Luxembourg\, 37D avenue John F. Kennedy
 \, L-1855 Luxembourg
SUMMARY:From paper to screen: mastering the ebooks.lu offering
END:VEVENT
BEGIN:VEVENT
UID:pretix-bnl-conseil-0@pretix.eu
DTSTART;TZID=Europe/Berlin:20260713T190000
DTEND;TZID=Europe/Berlin:20260713T210000
DESCRIPTION:Tickets: https://pretix.eu/bnl/conseil/\nOrganizer: Bibliothèq
 ue nationale du Luxembourg
DTSTAMP:20260425T215337Z
LOCATION:Bibliothèque nationale du Luxembourg\, 37D avenue John F. Kennedy
 \, L-1855 Luxembourg
SUMMARY:Les Origines du Conseil d’État du Luxembourg
END:VEVENT
BEGIN:VEVENT
UID:pretix-bnl-visites-guidees-4808785@pretix.eu
DTSTART;TZID=Europe/Berlin:20260326T170000
DTEND;TZID=Europe/Berlin:20260326T183000
DESCRIPTION:Tickets: https://pretix.eu/bnl/visites-guidees/4808785/\nOrgani
 zer: Bibliothèque nationale du Luxembourg
DTSTAMP:20260425T215337Z
LOCATION:Bibliothèque nationale du Luxembourg\, 37D avenue John F. Kennedy
 \, L-1855 Luxembourg
SUMMARY:Guided tour (Luxembourgish)
END:VEVENT
BEGIN:VEVENT
UID:pretix-bnl-visites-guidees-4808786@pretix.eu
DTSTART;TZID=Europe/Berlin:20260418T110000
DTEND;TZID=Europe/Berlin:20260418T123000
DESCRIPTION:Tickets: https://pretix.eu/bnl/visites-guidees/4808786/\nOrgani
 zer: Bibliothèque nationale du Luxembourg
DTSTAMP:20260425T215337Z
LOCATION:Bibliothèque nationale du Luxembourg\, 37D avenue John F. Kennedy
 \, L-1855 Luxembourg
SUMMARY:Guided tour (German)
END:VEVENT
BEGIN:VEVENT
UID:pretix-bnl-visites-guidees-4808787@pretix.eu
DTSTART;TZID=Europe/Berlin:20260423T170000
DTEND;TZID=Europe/Berlin:20260423T183000
DESCRIPTION:Tickets: https://pretix.eu/bnl/visites-guidees/4808787/\nOrgani
 zer: Bibliothèque nationale du Luxembourg
DTSTAMP:20260425T215337Z
LOCATION:Bibliothèque nationale du Luxembourg\, 37D avenue John F. Kennedy
 \, L-1855 Luxembourg
SUMMARY:Guided tour (French)
END:VEVENT
BEGIN:VEVENT
UID:pretix-bnl-visites-expo-4911279@pretix.eu
DTSTART;TZID=Europe/Berlin:20260425T140000
DTEND;TZID=Europe/Berlin:20260425T150000
DESCRIPTION:Tickets: https://pretix.eu/bnl/visites-expo/4911279/\nOrganizer
 : Bibliothèque nationale du Luxembourg
DTSTAMP:20260425T215337Z
LOCATION:Bibliothèque nationale du Luxembourg\, 37D avenue John F. Kennedy
 \, L-1855 Luxembourg\, (Ausstellungsraum 2. Stock)
SUMMARY:Führungen durch die Ausstellung (Deutsch)
END:VEVENT
BEGIN:VEVENT
UID:pretix-bnl-visites-guidees-4922647@pretix.eu
DTSTART;TZID=Europe/Berlin:20260518T170000
DTEND;TZID=Europe/Berlin:20260518T183000
DESCRIPTION:Tickets: https://pretix.eu/bnl/visites-guidees/4922647/\nOrgani
 zer: Bibliothèque nationale du Luxembourg
DTSTAMP:20260425T215337Z
LOCATION:Bibliothèque nationale du Luxembourg\, 37D avenue John F. Kennedy
 \, L-1855 Luxembourg
SUMMARY:Guided tour (English)
END:VEVENT
BEGIN:VEVENT
UID:pretix-bnl-visites-expo-4922645@pretix.eu
DTSTART;TZID=Europe/Berlin:20260520T180000
DTEND;TZID=Europe/Berlin:20260520T190000
DESCRIPTION:Tickets: https://pretix.eu/bnl/visites-expo/4922645/\nOrganizer
 : Bibliothèque nationale du Luxembourg
DTSTAMP:20260425T215337Z
LOCATION:Bibliothèque nationale du Luxembourg\, 37D avenue John F. Kennedy
 \, L-1855 Luxembourg\, (Ausstellungsraum 2. Stock)
SUMMARY:Führungen durch die Ausstellung (Französisch)
END:VEVENT
BEGIN:VEVENT
UID:pretix-bnl-visites-guidees-4922648@pretix.eu
DTSTART;TZID=Europe/Berlin:20260530T110000
DTEND;TZID=Europe/Berlin:20260530T123000
DESCRIPTION:Tickets: https://pretix.eu/bnl/visites-guidees/4922648/\nOrgani
 zer: Bibliothèque nationale du Luxembourg
DTSTAMP:20260425T215337Z
LOCATION:Bibliothèque nationale du Luxembourg\, 37D avenue John F. Kennedy
 \, L-1855 Luxembourg
SUMMARY:Guided tour (Luxembourgish)
END:VEVENT
BEGIN:VEVENT
UID:pretix-bnl-visites-guidees-4922649@pretix.eu
DTSTART;TZID=Europe/Berlin:20260605T170000
DTEND;TZID=Europe/Berlin:20260605T183000
DESCRIPTION:Tickets: https://pretix.eu/bnl/visites-guidees/4922649/\nOrgani
 zer: Bibliothèque nationale du Luxembourg
DTSTAMP:20260425T215337Z
LOCATION:Bibliothèque nationale du Luxembourg\, 37D avenue John F. Kennedy
 \, L-1855 Luxembourg
SUMMARY:Guided tour (French)
END:VEVENT
BEGIN:VEVENT
UID:pretix-bnl-visites-expo-4922646@pretix.eu
DTSTART;TZID=Europe/Berlin:20260613T110000
DTEND;TZID=Europe/Berlin:20260613T120000
DESCRIPTION:Tickets: https://pretix.eu/bnl/visites-expo/4922646/\nOrganizer
 : Bibliothèque nationale du Luxembourg
DTSTAMP:20260425T215337Z
LOCATION:Bibliothèque nationale du Luxembourg\, 37D avenue John F. Kennedy
 \, L-1855 Luxembourg\, (Ausstellungsraum 2. Stock)
SUMMARY:Führungen durch die Ausstellung (Deutsch)
END:VEVENT
BEGIN:VEVENT
UID:pretix-bnl-visites-guidees-4922650@pretix.eu
DTSTART;TZID=Europe/Berlin:20260620T110000
DTEND;TZID=Europe/Berlin:20260620T123000
DESCRIPTION:Tickets: https://pretix.eu/bnl/visites-guidees/4922650/\nOrgani
 zer: Bibliothèque nationale du Luxembourg
DTSTAMP:20260425T215337Z
LOCATION:Bibliothèque nationale du Luxembourg\, 37D avenue John F. Kennedy
 \, L-1855 Luxembourg
SUMMARY:Guided tour (German)
END:VEVENT
BEGIN:VEVENT
UID:pretix-bnl-visites-guidees-4922655@pretix.eu
DTSTART;TZID=Europe/Berlin:20260624T173000
DTEND;TZID=Europe/Berlin:20260624T190000
DESCRIPTION:Tickets: https://pretix.eu/bnl/visites-guidees/4922655/\nOrgani
 zer: Bibliothèque nationale du Luxembourg
DTSTAMP:20260425T215337Z
LOCATION:Bibliothèque nationale du Luxembourg\, 37D avenue John F. Kennedy
 \, L-1855 Luxembourg
SUMMARY:Guided tour of the Media Centre and our audiovisual collections
END:VEVENT
BEGIN:VEVENT
UID:pretix-bnl-dir4-4925813@pretix.eu
DTSTART;TZID=Europe/Berlin:20260627T110000
DTEND;TZID=Europe/Berlin:20260627T111500
DESCRIPTION:Tickets: https://pretix.eu/bnl/dir4/4925813/\nOrganizer: Biblio
 thèque nationale du Luxembourg
DTSTAMP:20260425T215337Z
LOCATION:Bibliothèque nationale du Luxembourg\, 37D avenue John F. Kennedy
 \, L-1855 Luxembourg
SUMMARY:Conversation
END:VEVENT
BEGIN:VEVENT
UID:pretix-bnl-dir4-4925814@pretix.eu
DTSTART;TZID=Europe/Berlin:20260627T111500
DTEND;TZID=Europe/Berlin:20260627T113000
DESCRIPTION:Tickets: https://pretix.eu/bnl/dir4/4925814/\nOrganizer: Biblio
 thèque nationale du Luxembourg
DTSTAMP:20260425T215337Z
LOCATION:Bibliothèque nationale du Luxembourg\, 37D avenue John F. Kennedy
 \, L-1855 Luxembourg
SUMMARY:Conversation
END:VEVENT
BEGIN:VEVENT
UID:pretix-bnl-dir4-4925815@pretix.eu
DTSTART;TZID=Europe/Berlin:20260627T113000
DTEND;TZID=Europe/Berlin:20260627T114500
DESCRIPTION:Tickets: https://pretix.eu/bnl/dir4/4925815/\nOrganizer: Biblio
 thèque nationale du Luxembourg
DTSTAMP:20260425T215337Z
LOCATION:Bibliothèque nationale du Luxembourg\, 37D avenue John F. Kennedy
 \, L-1855 Luxembourg
SUMMARY:Conversation
END:VEVENT
BEGIN:VEVENT
UID:pretix-bnl-dir4-4925816@pretix.eu
DTSTART;TZID=Europe/Berlin:20260627T114500
DTEND;TZID=Europe/Berlin:20260627T120000
DESCRIPTION:Tickets: https://pretix.eu/bnl/dir4/4925816/\nOrganizer: Biblio
 thèque nationale du Luxembourg
DTSTAMP:20260425T215337Z
LOCATION:Bibliothèque nationale du Luxembourg\, 37D avenue John F. Kennedy
 \, L-1855 Luxembourg
SUMMARY:Conversation
END:VEVENT
BEGIN:VEVENT
UID:pretix-bnl-dir4-4925817@pretix.eu
DTSTART;TZID=Europe/Berlin:20260627T120000
DTEND;TZID=Europe/Berlin:20260627T121500
DESCRIPTION:Tickets: https://pretix.eu/bnl/dir4/4925817/\nOrganizer: Biblio
 thèque nationale du Luxembourg
DTSTAMP:20260425T215337Z
LOCATION:Bibliothèque nationale du Luxembourg\, 37D avenue John F. Kennedy
 \, L-1855 Luxembourg
SUMMARY:Conversation
END:VEVENT
BEGIN:VEVENT
UID:pretix-bnl-dir4-4925818@pretix.eu
DTSTART;TZID=Europe/Berlin:20260627T121500
DTEND;TZID=Europe/Berlin:20260627T123000
DESCRIPTION:Tickets: https://pretix.eu/bnl/dir4/4925818/\nOrganizer: Biblio
 thèque nationale du Luxembourg
DTSTAMP:20260425T215337Z
LOCATION:Bibliothèque nationale du Luxembourg\, 37D avenue John F. Kennedy
 \, L-1855 Luxembourg
SUMMARY:Conversation
END:VEVENT
BEGIN:VEVENT
UID:pretix-bnl-visites-guidees-4922651@pretix.eu
DTSTART;TZID=Europe/Berlin:20260711T110000
DTEND;TZID=Europe/Berlin:20260711T123000
DESCRIPTION:Tickets: https://pretix.eu/bnl/visites-guidees/4922651/\nOrgani
 zer: Bibliothèque nationale du Luxembourg
DTSTAMP:20260425T215337Z
LOCATION:Bibliothèque nationale du Luxembourg\, 37D avenue John F. Kennedy
 \, L-1855 Luxembourg
SUMMARY:Guided tour (French)
END:VEVENT
BEGIN:VEVENT
UID:pretix-bnl-visites-guidees-4922652@pretix.eu
DTSTART;TZID=Europe/Berlin:20260723T170000
DTEND;TZID=Europe/Berlin:20260723T183000
DESCRIPTION:Tickets: https://pretix.eu/bnl/visites-guidees/4922652/\nOrgani
 zer: Bibliothèque nationale du Luxembourg
DTSTAMP:20260425T215337Z
LOCATION:Bibliothèque nationale du Luxembourg\, 37D avenue John F. Kennedy
 \, L-1855 Luxembourg
SUMMARY:Guided tour (Luxembourgish)
END:VEVENT
BEGIN:VEVENT
UID:pretix-bnl-visites-guidees-4922653@pretix.eu
DTSTART;TZID=Europe/Berlin:20260817T170000
DTEND;TZID=Europe/Berlin:20260817T183000
DESCRIPTION:Tickets: https://pretix.eu/bnl/visites-guidees/4922653/\nOrgani
 zer: Bibliothèque nationale du Luxembourg
DTSTAMP:20260425T215337Z
LOCATION:Bibliothèque nationale du Luxembourg\, 37D avenue John F. Kennedy
 \, L-1855 Luxembourg
SUMMARY:Guided tour (English)
END:VEVENT
BEGIN:VEVENT
UID:pretix-bnl-visites-guidees-4922654@pretix.eu
DTSTART;TZID=Europe/Berlin:20260827T170000
DTEND;TZID=Europe/Berlin:20260827T183000
DESCRIPTION:Tickets: https://pretix.eu/bnl/visites-guidees/4922654/\nOrgani
 zer: Bibliothèque nationale du Luxembourg
DTSTAMP:20260425T215337Z
LOCATION:Bibliothèque nationale du Luxembourg\, 37D avenue John F. Kennedy
 \, L-1855 Luxembourg
SUMMARY:Guided tour (Luxembourgish)
END:VEVENT
END:VCALENDAR
