BEGIN:VCALENDAR
VERSION:2.0
PRODID:-//pretix//pretix.eu//
BEGIN:VTIMEZONE
TZID:Europe/Berlin
BEGIN:STANDARD
DTSTART:20001029T040000
RRULE:FREQ=YEARLY;BYDAY=-1SU;BYMONTH=10
TZNAME:CET
TZOFFSETFROM:+0200
TZOFFSETTO:+0100
END:STANDARD
BEGIN:DAYLIGHT
DTSTART:20000326T030000
RRULE:FREQ=YEARLY;BYDAY=-1SU;BYMONTH=3
TZNAME:CEST
TZOFFSETFROM:+0100
TZOFFSETTO:+0200
END:DAYLIGHT
END:VTIMEZONE
BEGIN:VEVENT
UID:pretix-boberg-202607301500-6796-0@pretix.eu
DTSTART;TZID=Europe/Berlin:20260730T150000
DTEND;TZID=Europe/Berlin:20260730T180000
DESCRIPTION:Tickets: https://pretix.eu/boberg/202607301500-6796/\nVeranstal
 ter: Boberger Dünenhaus
DTSTAMP:20260423T231045Z
LOCATION:Altengamme\, Altengammer Hauptdeich\, Busstop Borghorst Linie 228
SUMMARY:Insektenwanderung Borghorst
END:VEVENT
END:VCALENDAR
