BEGIN:VCALENDAR
VERSION:2.0
PRODID:-//pretix//pretix.eu//
BEGIN:VTIMEZONE
TZID:Europe/Berlin
BEGIN:STANDARD
DTSTART:20001029T040000
RRULE:FREQ=YEARLY;BYDAY=-1SU;BYMONTH=10
TZNAME:CET
TZOFFSETFROM:+0200
TZOFFSETTO:+0100
END:STANDARD
BEGIN:DAYLIGHT
DTSTART:20000326T030000
RRULE:FREQ=YEARLY;BYDAY=-1SU;BYMONTH=3
TZNAME:CEST
TZOFFSETFROM:+0100
TZOFFSETTO:+0200
END:DAYLIGHT
END:VTIMEZONE
BEGIN:VEVENT
UID:pretix-bornekulturhuset-familie-1195607@pretix.eu
DTSTART;TZID=Europe/Berlin:20210905T100000
DTEND;TZID=Europe/Berlin:20210905T110000
DESCRIPTION:Billetter: https://pretix.eu/bornekulturhuset/familie/1195607/\
 nOrganizer: Børnekulturhuset
DTSTAMP:20260422T023049Z
LOCATION:aarhus\, danmark
SUMMARY:Giv sommerfuglen vinger
END:VEVENT
END:VCALENDAR
