BEGIN:VCALENDAR
VERSION:2.0
PRODID:-//pretix//pretix.eu//
BEGIN:VTIMEZONE
TZID:Europe/Copenhagen
BEGIN:STANDARD
DTSTART:20001029T040000
RRULE:FREQ=YEARLY;BYDAY=-1SU;BYMONTH=10
TZNAME:CET
TZOFFSETFROM:+0200
TZOFFSETTO:+0100
END:STANDARD
BEGIN:DAYLIGHT
DTSTART:20000326T030000
RRULE:FREQ=YEARLY;BYDAY=-1SU;BYMONTH=3
TZNAME:CEST
TZOFFSETFROM:+0100
TZOFFSETTO:+0200
END:DAYLIGHT
END:VTIMEZONE
BEGIN:VEVENT
UID:pretix-bornekulturhuset-sne-4890969@pretix.eu
DTSTART;TZID=Europe/Copenhagen:20260511T090000
DTEND;TZID=Europe/Copenhagen:20260511T140000
DESCRIPTION:Billetter: https://pretix.eu/bornekulturhuset/sne/4890969/\nOrg
 anizer: Børnekulturhuset
DTSTAMP:20260424T135455Z
LOCATION:Moesgaard\, Moesgård Allé 15\, 8270 Højbjerg
SUMMARY:Snedronningen
END:VEVENT
END:VCALENDAR
