BEGIN:VCALENDAR
VERSION:2.0
PRODID:-//pretix//pretix.eu//
BEGIN:VTIMEZONE
TZID:Europe/Berlin
BEGIN:STANDARD
DTSTART:20001029T040000
RRULE:FREQ=YEARLY;BYDAY=-1SU;BYMONTH=10
TZNAME:CET
TZOFFSETFROM:+0200
TZOFFSETTO:+0100
END:STANDARD
BEGIN:DAYLIGHT
DTSTART:20000326T030000
RRULE:FREQ=YEARLY;BYDAY=-1SU;BYMONTH=3
TZNAME:CEST
TZOFFSETFROM:+0100
TZOFFSETTO:+0200
END:DAYLIGHT
END:VTIMEZONE
BEGIN:VEVENT
UID:pretix-boswgmbh-BoSWWinnerTalk26-0@pretix.eu
DTSTART;TZID=Europe/Berlin:20260527T160000
DTEND;TZID=Europe/Berlin:20260527T200000
DESCRIPTION:Tickets: https://pretix.eu/boswgmbh/BoSWWinnerTalk26/\nVeransta
 lter: Best of Swiss Web GmbH
DTSTAMP:20260424T224529Z
LOCATION:Swisscom Business Campus\, Turbinenstrasse 26/28/30\, 8005 Zürich
SUMMARY:BoSW Winner Talk 2026
END:VEVENT
END:VCALENDAR
