BEGIN:VCALENDAR
VERSION:2.0
PRODID:-//pretix//pretix.eu//
BEGIN:VTIMEZONE
TZID:Europe/Berlin
BEGIN:STANDARD
DTSTART:20001029T040000
RRULE:FREQ=YEARLY;BYDAY=-1SU;BYMONTH=10
TZNAME:CET
TZOFFSETFROM:+0200
TZOFFSETTO:+0100
END:STANDARD
BEGIN:DAYLIGHT
DTSTART:20000326T030000
RRULE:FREQ=YEARLY;BYDAY=-1SU;BYMONTH=3
TZNAME:CEST
TZOFFSETFROM:+0100
TZOFFSETTO:+0200
END:DAYLIGHT
END:VTIMEZONE
BEGIN:VEVENT
UID:pretix-bpc-otremba-0@pretix.eu
DTSTART;TZID=Europe/Berlin:20191104T193000
DTEND;TZID=Europe/Berlin:20191104T203000
DESCRIPTION:Tickets: https://pretix.eu/bpc/otremba/\nVeranstalter: Bremer P
 resse-Club e.V.
DTSTAMP:20260423T093707Z
LOCATION:Bremer Presse-Club (Schnoor 27/28)
SUMMARY:Freiraum #07 Hendrik Otremba
END:VEVENT
END:VCALENDAR
