BEGIN:VCALENDAR
VERSION:2.0
PRODID:-//pretix//pretix.eu//
BEGIN:VTIMEZONE
TZID:Europe/London
BEGIN:STANDARD
DTSTART:20001029T030000
RRULE:FREQ=YEARLY;BYDAY=-1SU;BYMONTH=10
TZNAME:GMT
TZOFFSETFROM:+0100
TZOFFSETTO:+0000
END:STANDARD
BEGIN:DAYLIGHT
DTSTART:20000326T020000
RRULE:FREQ=YEARLY;BYDAY=-1SU;BYMONTH=3
TZNAME:BST
TZOFFSETFROM:+0000
TZOFFSETTO:+0100
END:DAYLIGHT
END:VTIMEZONE
BEGIN:VEVENT
UID:pretix-bristolmuseums-WPotY61-4698178@pretix.eu
DTSTART;TZID=Europe/London:20260424T121500
DTEND;TZID=Europe/London:20260424T130000
DESCRIPTION:Tickets: https://pretix.eu/bristolmuseums/WPotY61/4698178/\nOrg
 anizer: Bristol Culture
DTSTAMP:20260420T071713Z
LOCATION:Bristol Museum and Art Gallery\, Queens Road\, BS8 1RL
SUMMARY:Wildlife Photographer of the Year 61
END:VEVENT
END:VCALENDAR
