BEGIN:VCALENDAR
VERSION:2.0
PRODID:-//pretix//pretix.eu//
BEGIN:VTIMEZONE
TZID:Europe/Berlin
BEGIN:STANDARD
DTSTART:20001029T040000
RRULE:FREQ=YEARLY;BYDAY=-1SU;BYMONTH=10
TZNAME:CET
TZOFFSETFROM:+0200
TZOFFSETTO:+0100
END:STANDARD
BEGIN:DAYLIGHT
DTSTART:20000326T030000
RRULE:FREQ=YEARLY;BYDAY=-1SU;BYMONTH=3
TZNAME:CEST
TZOFFSETFROM:+0100
TZOFFSETTO:+0200
END:DAYLIGHT
END:VTIMEZONE
BEGIN:VEVENT
UID:pretix-bruchwerktheater-rostigerstahl-3212878@pretix.eu
DTSTART;TZID=Europe/Berlin:20220618T160000
DTEND;TZID=Europe/Berlin:20220618T180000
DESCRIPTION:Tickets: https://pretix.eu/bruchwerktheater/rostigerstahl/32128
 78/\nVeranstalter: Bruchwerk Theater gUG
DTSTAMP:20260421T081543Z
LOCATION:Audiowalk\, Treffpunkt am Tor des Oberes Schlosses von Siegen
SUMMARY:ROSTIGER STAHL
END:VEVENT
END:VCALENDAR
